BEGIN:VCALENDAR
VERSION:2.0
PRODID:-//Marketing EDA - ECPv6.15.20//NONSGML v1.0//EN
CALSCALE:GREGORIAN
METHOD:PUBLISH
X-ORIGINAL-URL:https://marketingeda.com
X-WR-CALDESC:Events for Marketing EDA
REFRESH-INTERVAL;VALUE=DURATION:PT1H
X-Robots-Tag:noindex
X-PUBLISHED-TTL:PT1H
BEGIN:VTIMEZONE
TZID:Asia/Jerusalem
BEGIN:DAYLIGHT
TZOFFSETFROM:+0200
TZOFFSETTO:+0300
TZNAME:IDT
DTSTART:20220325T000000
END:DAYLIGHT
BEGIN:STANDARD
TZOFFSETFROM:+0300
TZOFFSETTO:+0200
TZNAME:IST
DTSTART:20221029T230000
END:STANDARD
BEGIN:DAYLIGHT
TZOFFSETFROM:+0200
TZOFFSETTO:+0300
TZNAME:IDT
DTSTART:20230324T000000
END:DAYLIGHT
BEGIN:STANDARD
TZOFFSETFROM:+0300
TZOFFSETTO:+0200
TZNAME:IST
DTSTART:20231028T230000
END:STANDARD
BEGIN:DAYLIGHT
TZOFFSETFROM:+0200
TZOFFSETTO:+0300
TZNAME:IDT
DTSTART:20240329T000000
END:DAYLIGHT
BEGIN:STANDARD
TZOFFSETFROM:+0300
TZOFFSETTO:+0200
TZNAME:IST
DTSTART:20241026T230000
END:STANDARD
END:VTIMEZONE
BEGIN:VEVENT
DTSTART;TZID=Asia/Jerusalem:20230905T091500
DTEND;TZID=Asia/Jerusalem:20230905T164500
DTSTAMP:20260424T013611
CREATED:20230901T162634Z
LAST-MODIFIED:20230901T162634Z
UID:6763-1693905300-1693932300@marketingeda.com
SUMMARY:Real Intent Static Sign-Off Seminar in Israel
DESCRIPTION:Time\nTopic\nSpeaker\n\n\n09:15 – 09:45\nCheck-in and light breakfast\n\n\n\n09:45 – 10:00\nIntroduction of Real Intent and speakers\nUri Farkash\, Real Intent – Senior Sales Director\n\n\n10:00 – 10:30\nKeynote Speaker\nDr. Prakash Narain\, Real Intent – President and CEO\n\n\n10:30 – 10:45\nAn Overview Static Sign-off\nDr. Prakash Narain\, Real Intent – President and CEO\n\n\n10:45 – 11:45\nConnectivity Case Studies & Avoiding Glitch Bugs\nOren Katzir\, Real Intent – VP\, Application Engineering\n\n\nPolina Gemelfarb \, Real Intent – Senior FAE\n\n\n11:45 – 12:15\nTutorial: Advanced RDC Verification\nPolina Gemelfarb \, Real Intent – Senior FAE\n\n\n12:15 – 12:45\nExpert Users Track: CDC Signoff – from Gamble to Certainty\nMilca Tarshish\, Intel WCS – Senior VLSI Engineer\n\n\nDoron Stein\, Intel WCS – Senior CAD Engineer\n\n\n12:45 – 14:00\nLunch & Networking\n\n\n\n14:00 – 14:30\nExpert Users Track: Best Practices for Static Sign-Off with Continuous Integration\nItai Resh\, Hailo – VLSI Project Lead\n\n\n14:30 – 15:15\nEarly DFT and Test gaps detection\nOren Katzir\, Real Intent – VP\, Application Engineering\n\n\n15:15 – 15:45\nDynamic and Formal CDC\nRoman Paleria\, Real Intent – FAE Manager\n\n\n15:45 – 16:15\nComponent Level CDC Workshop\nEvgeny Zhyvov\, Real Intent – Principal Engineer\n\n\n16:15 – 16:30\nAdvancements in LINT\nRoman Paleria \, Real Intent – FAE Manager\n\n\n16:30 – 16:45\nClosing remarks & Prize draw\nUri Farkash\, Real Intent – Senior Sales Director\n\n\n\nShare this:\n				Share on LinkedIn (Opens in new window)\n				LinkedIn\n			\n				Share on X (Opens in new window)\n				X\n			\n				Share on Facebook (Opens in new window)\n				Facebook\n			Like this:Like Loading...
URL:https://marketingeda.com/event/real-intent-static-sign-off-seminar-in-israel/
LOCATION:VERT Lagoon\, Netanya\, Israel
CATEGORIES:EDA,Seminar
ATTACH;FMTTYPE=image/jpeg:https://marketingeda.com/wp-content/uploads/Real-Intent-September-5-2023.jpg
END:VEVENT
END:VCALENDAR