BEGIN:VCALENDAR
VERSION:2.0
PRODID:-//Marketing EDA - ECPv6.15.20//NONSGML v1.0//EN
CALSCALE:GREGORIAN
METHOD:PUBLISH
X-ORIGINAL-URL:https://marketingeda.com
X-WR-CALDESC:Events for Marketing EDA
REFRESH-INTERVAL;VALUE=DURATION:PT1H
X-Robots-Tag:noindex
X-PUBLISHED-TTL:PT1H
BEGIN:VTIMEZONE
TZID:America/Los_Angeles
BEGIN:DAYLIGHT
TZOFFSETFROM:-0800
TZOFFSETTO:-0700
TZNAME:PDT
DTSTART:20220313T100000
END:DAYLIGHT
BEGIN:STANDARD
TZOFFSETFROM:-0700
TZOFFSETTO:-0800
TZNAME:PST
DTSTART:20221106T090000
END:STANDARD
BEGIN:DAYLIGHT
TZOFFSETFROM:-0800
TZOFFSETTO:-0700
TZNAME:PDT
DTSTART:20230312T100000
END:DAYLIGHT
BEGIN:STANDARD
TZOFFSETFROM:-0700
TZOFFSETTO:-0800
TZNAME:PST
DTSTART:20231105T090000
END:STANDARD
BEGIN:DAYLIGHT
TZOFFSETFROM:-0800
TZOFFSETTO:-0700
TZNAME:PDT
DTSTART:20240310T100000
END:DAYLIGHT
BEGIN:STANDARD
TZOFFSETFROM:-0700
TZOFFSETTO:-0800
TZNAME:PST
DTSTART:20241103T090000
END:STANDARD
END:VTIMEZONE
BEGIN:VEVENT
DTSTART;TZID=America/Los_Angeles:20230328T083000
DTEND;TZID=America/Los_Angeles:20230328T113000
DTSTAMP:20260420T045100
CREATED:20230309T220840Z
LAST-MODIFIED:20230309T220902Z
UID:6090-1679992200-1680003000@marketingeda.com
SUMMARY:ESD Alliance Export Seminar
DESCRIPTION:The ESD Alliance Export Committee will hold a seminar called “The Impact of New Regulations on the Semiconductor Design Ecosystem.” This seminar is presented by the ESD Alliance\, a SEMI Technology Community\, and will be hosted by Cadence Design Systems at their San Jose Headquarters. The Cadence Government and Trade Team will cover general trade compliance concepts\, how export control and sanctions regulations affect the industry\, as well as current trends and emerging issues. \nBreakfast Hosted by Cadence \n\nTime\n8:30 am – 11:30 am \n\n\nADD TO CALENDAR\n\n\nLocation\nCadence Design Systems\n2655 Seely Avenue\nSan Jose\, CA 95134\nUnited States \nThe discussion will help attendees understand why and how governments implement trade controls\, what “exports” are and how they take place in different business contexts\, and common due diligence methods – such as customer screening – that United States companies use to incorporate regulatory compliance into their business processes. Finally\, the discussion will address recent regulatory updates which address current issues such as US-China trade relations and the anticipated effects of those regulations on the US semiconductor design ecosystem. \n\nMeet the Speakers\n \nAda Loo\nGroup Director and Associate General Counsel\,\nCadence Design Systems \nBiography\n \nWilliam Duffy\nCorporate Counsel (Government and Trade\, Cadence Legal) \nBiography\n\nShare this:\n				Share on LinkedIn (Opens in new window)\n				LinkedIn\n			\n				Share on X (Opens in new window)\n				X\n			\n				Share on Facebook (Opens in new window)\n				Facebook\n			Like this:Like Loading...
URL:https://marketingeda.com/event/esd-alliance-export-seminar/
LOCATION:Cadence Design Systems\, Bldg 10\, 2655 Seeley Avenue\, San Jose\, CA\, United States
CATEGORIES:EDA,IP,Seminar
ATTACH;FMTTYPE=image/jpeg:https://marketingeda.com/wp-content/uploads/ESDA-March-28-2023.jpg
END:VEVENT
END:VCALENDAR