BEGIN:VCALENDAR
VERSION:2.0
PRODID:-//Marketing EDA - ECPv6.15.20//NONSGML v1.0//EN
CALSCALE:GREGORIAN
METHOD:PUBLISH
X-ORIGINAL-URL:https://marketingeda.com
X-WR-CALDESC:Events for Marketing EDA
REFRESH-INTERVAL;VALUE=DURATION:PT1H
X-Robots-Tag:noindex
X-PUBLISHED-TTL:PT1H
BEGIN:VTIMEZONE
TZID:America/Los_Angeles
BEGIN:DAYLIGHT
TZOFFSETFROM:-0800
TZOFFSETTO:-0700
TZNAME:PDT
DTSTART:20230312T100000
END:DAYLIGHT
BEGIN:STANDARD
TZOFFSETFROM:-0700
TZOFFSETTO:-0800
TZNAME:PST
DTSTART:20231105T090000
END:STANDARD
BEGIN:DAYLIGHT
TZOFFSETFROM:-0800
TZOFFSETTO:-0700
TZNAME:PDT
DTSTART:20240310T100000
END:DAYLIGHT
BEGIN:STANDARD
TZOFFSETFROM:-0700
TZOFFSETTO:-0800
TZNAME:PST
DTSTART:20241103T090000
END:STANDARD
BEGIN:DAYLIGHT
TZOFFSETFROM:-0800
TZOFFSETTO:-0700
TZNAME:PDT
DTSTART:20250309T100000
END:DAYLIGHT
BEGIN:STANDARD
TZOFFSETFROM:-0700
TZOFFSETTO:-0800
TZNAME:PST
DTSTART:20251102T090000
END:STANDARD
END:VTIMEZONE
BEGIN:VEVENT
DTSTART;TZID=America/Los_Angeles:20240925T093000
DTEND;TZID=America/Los_Angeles:20240925T180000
DTSTAMP:20260420T042929
CREATED:20240917T003541Z
LAST-MODIFIED:20240917T003907Z
UID:8337-1727256600-1727287200@marketingeda.com
SUMMARY:TSMC North America OIP Ecosystem Forum 2024
DESCRIPTION:Learn About:\n\nEmerging advanced node design challenges and corresponding design flows and methodologies for A16\, N2 and N3 processes\nLatest updates on TSMC 3DFabric™ chip stacking and advanced packaging processes\, InFO\, CoWoS®\, and SoIC\, 3DFabric Alliance\, and 3Dblox™ standard\, plus innovative 3Dblox-based design enablement technologies and solutions\, targeting HPC\, AI/ML\, and mobile applications\nComprehensive design solutions for specialty technologies enabling ultra-low power\, ultra-low voltage\, analog migration\, RF\, mmWave\, and automotive designs targeting 5G\, automotive\, and IoT designs\nEcosystem-specific AI-assisted design flow implementations for 2D and 3DIC design productivity and optimization\nSuccessful\, real-life applications of design technologies\, IP solutions\, and cloud-based designs from TSMC’s Open Innovation Platform® Ecosystem members and TSMC customers to speed up time-to-design and time-to-market.\n\nFor more information on the TSMC OIP Ecosystem Forum\, e-mail us at: tsmcevents@tsmc.com. \nWe look forward to seeing you at the 2024 TSMC OIP Ecosystem Forum! \nShare this:\n				Share on LinkedIn (Opens in new window)\n				LinkedIn\n			\n				Share on X (Opens in new window)\n				X\n			\n				Share on Facebook (Opens in new window)\n				Facebook\n			Like this:Like Loading...
URL:https://marketingeda.com/event/tsmc-north-america-oip-ecosystem-forum-2024/
LOCATION:Santa Clara Convention Center\, 5001 Great America Parkway\, Santa Clara\, CA\, 95054\, United States
CATEGORIES:EDA,Forum,Foundry,IP
ATTACH;FMTTYPE=image/jpeg:https://marketingeda.com/wp-content/uploads/TSMC-2024.jpg
END:VEVENT
END:VCALENDAR