BEGIN:VCALENDAR
VERSION:2.0
PRODID:-//Marketing EDA - ECPv6.15.20//NONSGML v1.0//EN
CALSCALE:GREGORIAN
METHOD:PUBLISH
X-ORIGINAL-URL:https://marketingeda.com
X-WR-CALDESC:Events for Marketing EDA
REFRESH-INTERVAL;VALUE=DURATION:PT1H
X-Robots-Tag:noindex
X-PUBLISHED-TTL:PT1H
BEGIN:VTIMEZONE
TZID:America/Los_Angeles
BEGIN:DAYLIGHT
TZOFFSETFROM:-0800
TZOFFSETTO:-0700
TZNAME:PDT
DTSTART:20230312T100000
END:DAYLIGHT
BEGIN:STANDARD
TZOFFSETFROM:-0700
TZOFFSETTO:-0800
TZNAME:PST
DTSTART:20231105T090000
END:STANDARD
BEGIN:DAYLIGHT
TZOFFSETFROM:-0800
TZOFFSETTO:-0700
TZNAME:PDT
DTSTART:20240310T100000
END:DAYLIGHT
BEGIN:STANDARD
TZOFFSETFROM:-0700
TZOFFSETTO:-0800
TZNAME:PST
DTSTART:20241103T090000
END:STANDARD
BEGIN:DAYLIGHT
TZOFFSETFROM:-0800
TZOFFSETTO:-0700
TZNAME:PDT
DTSTART:20250309T100000
END:DAYLIGHT
BEGIN:STANDARD
TZOFFSETFROM:-0700
TZOFFSETTO:-0800
TZNAME:PST
DTSTART:20251102T090000
END:STANDARD
END:VTIMEZONE
BEGIN:VEVENT
DTSTART;TZID=America/Los_Angeles:20240926T080000
DTEND;TZID=America/Los_Angeles:20240926T170000
DTSTAMP:20260420T042944
CREATED:20240710T165347Z
LAST-MODIFIED:20240710T165347Z
UID:8121-1727337600-1727370000@marketingeda.com
SUMMARY:GSA U.S. Executive Forum 2024
DESCRIPTION:THE JOURNEY TO A $1T GLOBAL INDUSTRY\n\n\n\n\n\n\n\nThe GSA US Executive Forum will delve into the semiconductor industry’s journey toward achieving the trillion-dollar milestone. The industry operates in a complex environment where global forces intersect with regional dynamics. Industry executives will explore the delicate balance between globalization and regionalization\, considering both opportunities and challenges while emphasizing sustainable growth\, innovation\, and strategic business practices. \nIndustry leaders will also provide thought leadership into the market forces and advancements that shape the industry’s growth trajectory and explore the key drivers propelling the industry for sustainable growth. \n\n\n\n\nThe US Executive Forum is GSA’s premier exclusive\, invitation-only event that brings together influential executives\, thought leaders\, and subject matter experts for thought exchange and collaborative dialogue on the dynamic landscape of the global semiconductor value chain. With technological advancements driving rapid change\, the US Executive Forum fosters a deep understanding of the industry’s future direction and identifies strategies for success in an era of innovation and collaboration.\n\n\n\n1:00 PM\n\nWelcome Remarks\n\nJodi Shelton // CEO // GSA\n \n\n\n\n\n\n\n1:10 PMPANEL\n\nFireside Chat\n\nJensen Huang // Co-founder\, President and CEO // Nvidia \n\n\n\n\n\n\n1:50 PMPRESENTATION\n\nGlobal Landscape Impacting the Industry\n\n\n\n\n\n2:10 PMKEYNOTE\n\nKeynote – Industry Outlook\n\nDave Mosley / CEO / Seagate\n\n\n\n\n\n\n2:40 PM\n\nNetworking Break\n\n\n\n\n\n3:10 PMPANEL\n\nDisruptors in AI\n\nJitendra Mohan / Co-founder and CEO / Astera Labs\nRodrigo Liang / Co-founder and CEO / SambaNova\n\n\n\n\n\n\n3:50 PMPRESENTATION\n\nAutomotive Supply Chain\n\n\n\n\n\n4:05 PMPANEL\n\nAutomotive Electrification Panel Discussion\n\nKarn Budhiraj / Vice President\, Supply Chain / Tesla\nSiva Sivaram / CEO / QuantumScape\n\n\n\n\n\n\n4:45 PM\n\nNetworking Break\n\n\n\n\n\n5:15 PMPANEL\n\nExecutive Panel Discussion\n\nTien Wu / CEO / ASE Group & USI\nSandra Rivera / CEO / Altera\, an Intel company\nRene Hass / CEO / Arm\n\n\n\n\n\n\n6:00 PMKEYNOTE\n\nClosing Keynote\n\n\n\n\n\n6:40 PM\n\nVIP Reception\n\n\n\n\n\n\n\nShare this:\n				Share on LinkedIn (Opens in new window)\n				LinkedIn\n			\n				Share on X (Opens in new window)\n				X\n			\n				Share on Facebook (Opens in new window)\n				Facebook\n			Like this:Like Loading...
URL:https://marketingeda.com/event/gsa-u-s-executive-forum-2024/
LOCATION:Rosewood Sand Hill\, 2825 Sand Hill Road\, Menlo Park\, CA\, United States
CATEGORIES:Forum,Semiconductor
ATTACH;FMTTYPE=image/jpeg:https://marketingeda.com/wp-content/uploads/GSA-US-2024.jpg
END:VEVENT
END:VCALENDAR